BEGIN:VCALENDAR
VERSION:2.0
PRODID:-//Tukios.com/
BEGIN:VEVENT
UID:e9538666-d948-4fe8-b90a-66465ef3f68a@www.muellerfuneralhome.com
DTSTAMP:20260422T202346Z
DTSTART:20260509T150000Z
DTEND:20260509T164500Z
SUMMARY:Visitation
DESCRIPTION:
URL:https://www.muellerfuneralhome.com/obituaries/thomas-zoeller
LOCATION: 1375 Covered Bridge Road  Cedarburg WI 53012
GEO:43.3251398;-88.0072593
END:VEVENT
END:VCALENDAR