BEGIN:VCALENDAR
VERSION:2.0
PRODID:-//Tukios.com/
BEGIN:VEVENT
UID:3c61b4c3-7ee6-4c0e-b3dc-bbe4cc65c521@www.muellerfuneralhome.com
DTSTAMP:20260420T220406Z
DTSTART:20260426T194500Z
DTEND:20260426T204500Z
SUMMARY:Burial
DESCRIPTION:
URL:https://www.muellerfuneralhome.com/obituaries/susan-geier
LOCATION:  Bridge Street  Cedarburg WI 53024
GEO:43.3184657;-87.9544951
END:VEVENT
END:VCALENDAR