BEGIN:VCALENDAR
VERSION:2.0
PRODID:-//Tukios.com/
BEGIN:VEVENT
UID:aaa06f02-6ee7-4e17-b384-0dfb0ce6b579@www.muellerfuneralhome.com
DTSTAMP:20260420T220500Z
DTSTART:20260426T190000Z
DTEND:20260426T193000Z
SUMMARY:Funeral Service
DESCRIPTION:
URL:https://www.muellerfuneralhome.com/obituaries/susan-geier
LOCATION: W63 N527 Hanover Avenue  Cedarburg WI 53012
GEO:43.2949024;-87.9890051
END:VEVENT
END:VCALENDAR