BEGIN:VCALENDAR
VERSION:2.0
PRODID:-//Tukios.com/
BEGIN:VEVENT
UID:cbba4520-88d8-489d-b7fa-5b3f93014131@www.muellerfuneralhome.com
DTSTAMP:20260420T220443Z
DTSTART:20260426T170000Z
DTEND:20260426T184500Z
SUMMARY:Visitation
DESCRIPTION:
URL:https://www.muellerfuneralhome.com/obituaries/susan-geier
LOCATION: W63 N527 Hanover Avenue  Cedarburg WI 53012
GEO:43.2949024;-87.9890051
END:VEVENT
END:VCALENDAR