BEGIN:VCALENDAR
VERSION:2.0
PRODID:-//Tukios.com/
BEGIN:VEVENT
UID:c96ce925-833c-4a40-ba03-9e2d6f0be7ec@www.muellerfuneralhome.com
DTSTAMP:20260421T024103Z
DTSTART:20260508T190000Z
DTEND:20260508T200000Z
SUMMARY:Memorial Gathering
DESCRIPTION:
URL:https://www.muellerfuneralhome.com/obituaries/gary-parchim
LOCATION:American Legion Rose-Harms Post 355 Grafton, WI 1540 13th Ave  
	Grafton WI 53024
GEO:43.3152545;-87.9501122
END:VEVENT
END:VCALENDAR