BEGIN:VCALENDAR
VERSION:2.0
PRODID:-//Tukios.com/
BEGIN:VEVENT
UID:575a088e-e4ca-427d-b92e-048769198668@www.muellerfuneralhome.com
DTSTAMP:20260421T024219Z
DTSTART:20260508T180000Z
DTEND:20260508T184500Z
SUMMARY:Memorial Service
DESCRIPTION:
URL:https://www.muellerfuneralhome.com/obituaries/gary-parchim
LOCATION: 701 Washington Street  Grafton WI 53024
GEO:43.3193479;-87.9573874
END:VEVENT
END:VCALENDAR