BEGIN:VCALENDAR
VERSION:2.0
PRODID:-//Tukios.com/
BEGIN:VEVENT
UID:f8968f61-a7bb-4cbd-9a4b-2c9187fa299a@www.muellerfuneralhome.com
DTSTAMP:20260421T024128Z
DTSTART:20260508T160000Z
DTEND:20260508T174500Z
SUMMARY:Visitation
DESCRIPTION:
URL:https://www.muellerfuneralhome.com/obituaries/gary-parchim
LOCATION: 701 Washington Street  Grafton WI 53024
GEO:43.3193479;-87.9573874
END:VEVENT
END:VCALENDAR